BEGIN:VCALENDAR
VERSION:2.0
PRODID:icalendar-ruby
CALSCALE:GREGORIAN
BEGIN:VEVENT
DTSTAMP:20260425T013826Z
UID:1ed6a823-c78a-4ad6-8cc4-e0f22ae233f7
DTSTART;TZID=Pacific/Auckland:20260426T140000
DTEND;TZID=Pacific/Auckland:20260426T143000
DESCRIPTION:Property ID# 606730
SUMMARY:Openhome for 24 Sunninghurst Drive
END:VEVENT
END:VCALENDAR
