BEGIN:VCALENDAR
VERSION:2.0
PRODID:icalendar-ruby
CALSCALE:GREGORIAN
BEGIN:VEVENT
DTSTAMP:20260425T013849Z
UID:93b39db2-a935-403c-bb1a-d20e1eab5c72
DTSTART;TZID=Pacific/Auckland:20260426T113000
DTEND;TZID=Pacific/Auckland:20260426T120000
DESCRIPTION:Property ID# 607124
SUMMARY:Openhome for 22 Turner Street
END:VEVENT
END:VCALENDAR
